BEGIN:VCALENDAR
VERSION:2.0
PRODID:-//audaxity.org - ECPv6.15.18//NONSGML v1.0//EN
CALSCALE:GREGORIAN
METHOD:PUBLISH
X-WR-CALNAME:audaxity.org
X-ORIGINAL-URL:https://audaxity.org
X-WR-CALDESC:Events for audaxity.org
REFRESH-INTERVAL;VALUE=DURATION:PT1H
X-Robots-Tag:noindex
X-PUBLISHED-TTL:PT1H
BEGIN:VTIMEZONE
TZID:America/Detroit
BEGIN:DAYLIGHT
TZOFFSETFROM:-0500
TZOFFSETTO:-0400
TZNAME:EDT
DTSTART:20250309T070000
END:DAYLIGHT
BEGIN:STANDARD
TZOFFSETFROM:-0400
TZOFFSETTO:-0500
TZNAME:EST
DTSTART:20251102T060000
END:STANDARD
BEGIN:DAYLIGHT
TZOFFSETFROM:-0500
TZOFFSETTO:-0400
TZNAME:EDT
DTSTART:20260308T070000
END:DAYLIGHT
BEGIN:STANDARD
TZOFFSETFROM:-0400
TZOFFSETTO:-0500
TZNAME:EST
DTSTART:20261101T060000
END:STANDARD
BEGIN:DAYLIGHT
TZOFFSETFROM:-0500
TZOFFSETTO:-0400
TZNAME:EDT
DTSTART:20270314T070000
END:DAYLIGHT
BEGIN:STANDARD
TZOFFSETFROM:-0400
TZOFFSETTO:-0500
TZNAME:EST
DTSTART:20271107T060000
END:STANDARD
END:VTIMEZONE
BEGIN:VEVENT
DTSTART;TZID=America/Detroit:20261019T173000
DTEND;TZID=America/Detroit:20261019T193000
DTSTAMP:20260424T082954
CREATED:20260224T224655Z
LAST-MODIFIED:20260224T224655Z
UID:2719-1792431000-1792438200@audaxity.org
SUMMARY:The Impact Party
DESCRIPTION:Join us on Monday\, October 19th at the MCW Center for Cancer Discovery for the Audaxity Impact Party\, where our community will come together to celebrate the success of our 2026 ride and the lifesaving research it will power. Our team will reveal the total funds raised and share how those dollars will accelerate discoveries\, empower world-class scientists\, and launch community-driven projects at the MCW Cancer Center. \nAll participants are invited to hear from Audaxity leaders and MCW cancer researchers\, connect with fellow riders\, volunteers\, and sponsors\, and enjoy food and beverages. The event is free to attend\, but space is limited. Reserve your spot today. \nSee full details on The Impact Party page.
URL:https://audaxity.org/event-calendar/the-impact-party/
LOCATION:WI
CATEGORIES:Celebration
ATTACH;FMTTYPE=image/jpeg:https://audaxity.org/wp-content/uploads/2026/02/image-31.jpg
END:VEVENT
END:VCALENDAR