BEGIN:VCALENDAR
VERSION:2.0
PRODID:-//audaxity.org - ECPv6.15.18//NONSGML v1.0//EN
CALSCALE:GREGORIAN
METHOD:PUBLISH
X-WR-CALNAME:audaxity.org
X-ORIGINAL-URL:https://audaxity.org
X-WR-CALDESC:Events for audaxity.org
REFRESH-INTERVAL;VALUE=DURATION:PT1H
X-Robots-Tag:noindex
X-PUBLISHED-TTL:PT1H
BEGIN:VTIMEZONE
TZID:America/Detroit
BEGIN:DAYLIGHT
TZOFFSETFROM:-0500
TZOFFSETTO:-0400
TZNAME:EDT
DTSTART:20250309T070000
END:DAYLIGHT
BEGIN:STANDARD
TZOFFSETFROM:-0400
TZOFFSETTO:-0500
TZNAME:EST
DTSTART:20251102T060000
END:STANDARD
BEGIN:DAYLIGHT
TZOFFSETFROM:-0500
TZOFFSETTO:-0400
TZNAME:EDT
DTSTART:20260308T070000
END:DAYLIGHT
BEGIN:STANDARD
TZOFFSETFROM:-0400
TZOFFSETTO:-0500
TZNAME:EST
DTSTART:20261101T060000
END:STANDARD
BEGIN:DAYLIGHT
TZOFFSETFROM:-0500
TZOFFSETTO:-0400
TZNAME:EDT
DTSTART:20270314T070000
END:DAYLIGHT
BEGIN:STANDARD
TZOFFSETFROM:-0400
TZOFFSETTO:-0500
TZNAME:EST
DTSTART:20271107T060000
END:STANDARD
END:VTIMEZONE
BEGIN:VEVENT
DTSTART;VALUE=DATE:20260420
DTEND;VALUE=DATE:20260804
DTSTAMP:20260424T053848
CREATED:20250311T131037Z
LAST-MODIFIED:20260420T211111Z
UID:1398-1776643200-1785801599@audaxity.org
SUMMARY:Cafe Hollander Dine to End Cancer
DESCRIPTION:Dine at a participating Lowlands Hospitality Group restaurant Monday through Wednesday and 20% of your bill will be donated to your favorite rider’s fundraising efforts! \nHost an audacious team dinner or group happy hour! Come together and eradicate cancer over a shared meal and cold beverage. Lowlands Group restaurants can accommodate large groups with a variety of spaces. \nSpread the word with your family and friends! This built-in fundraiser makes it easy for anyone to help support the cancer researchers at the Medical College of Wisconsin (MCW) Cancer Center who are unlocking new\, potentially lifesaving therapies for adult\, pediatric\, and rare cancer patients in our community and beyond. Refer your network to dine at these restaurants during the fundraising period and have them mention they are supporting your fundraising for Audaxity. \nTo claim\, participants will need to send a photo of their itemized receipt to Info@audaxity.org along with the name of the team or rider they want credited with the donation.\nParticipating Lowlands Group Restaurants (Café Benelux excluded):\n \nCafé Hollander\n\nMilwaukee: 2608 N. Downer Avenue\, Milwaukee\, WI 53211\nWauwatosa: 7677 W. State Street\, Wauwatosa\, WI 53213\nBrookfield: 20150 Union Street\, Brookfield\, WI 53045\nMequon: 5900 W. Mequon Road\, Mequon\, WI 53092\nMadison: 701 Hilldale Way\, Madison\, WI 53705\n\n \nCentraal Grand Café & Tappery\n2306 S. Kinnickinnic Avenue\, Milwaukee\, WI 53207 \n \nBuckatabon Tavern & Supper Club\n7700 Harwood Avenue\, Wauwatosa\, WI 53213
URL:https://audaxity.org/event-calendar/cafe-hollander-dine-to-end-cancer/
LOCATION:Cafe Hollander
CATEGORIES:Fundraiser
ATTACH;FMTTYPE=image/png:https://audaxity.org/wp-content/uploads/2025/03/WordPress-Event-Headers-30.png
END:VEVENT
END:VCALENDAR